BEGIN:VCALENDAR
VERSION:2.0
BEGIN:VEVENT
UID:ics69ea7918a305e
DTSTAMP:20260423T215504Z
LOCATION:SO418
DESCRIPTION:Will your product idea make it to the shelf?
URL;VALUE=URI:
SUMMARY:Business & Innovation Workshop with ADM
DTSTART:20260504T110000Z
DTEND:20260504T120000Z
END:VEVENT
END:VCALENDAR
