BEGIN:VCALENDAR
VERSION:2.0
BEGIN:VEVENT
UID:ics69ea466a4b34b
DTSTAMP:20260423T181850Z
LOCATION:SO418
DESCRIPTION:Schafft es Ihre Produktidee bis ins Regal?
URL;VALUE=URI:
SUMMARY:Business & Innovation Workshop mit ADM
DTSTART:20260504T110000Z
DTEND:20260504T120000Z
END:VEVENT
END:VCALENDAR
